BEGIN:VCALENDAR
VERSION:2.0
PRODID:-//Marcella Zappaterra - ECPv5.1.6//NONSGML v1.0//EN
CALSCALE:GREGORIAN
METHOD:PUBLISH
X-WR-CALNAME:Marcella Zappaterra
X-ORIGINAL-URL:https://www.marcellazappaterra.it
X-WR-CALDESC:Eventi per Marcella Zappaterra
BEGIN:VTIMEZONE
TZID:Europe/Rome
BEGIN:DAYLIGHT
TZOFFSETFROM:+0100
TZOFFSETTO:+0200
TZNAME:CEST
DTSTART:20210328T010000
END:DAYLIGHT
BEGIN:STANDARD
TZOFFSETFROM:+0200
TZOFFSETTO:+0100
TZNAME:CET
DTSTART:20211031T010000
END:STANDARD
END:VTIMEZONE
BEGIN:VEVENT
DTSTART;TZID=Europe/Rome:20210204T170000
DTEND;TZID=Europe/Rome:20210204T183000
DTSTAMP:20260426T040059
CREATED:20210209T151408Z
LAST-MODIFIED:20210209T151426Z
UID:6628-1612458000-1612463400@www.marcellazappaterra.it
SUMMARY:Direzione Nazionale del Partito Democratico
DESCRIPTION:
URL:https://www.marcellazappaterra.it/evento/direzione-nazionale-del-partito-democratico-4/
END:VEVENT
END:VCALENDAR