BEGIN:VCALENDAR
VERSION:2.0
PRODID:-//Marcella Zappaterra - ECPv5.1.6//NONSGML v1.0//EN
CALSCALE:GREGORIAN
METHOD:PUBLISH
X-WR-CALNAME:Marcella Zappaterra
X-ORIGINAL-URL:https://www.marcellazappaterra.it
X-WR-CALDESC:Eventi per Marcella Zappaterra
BEGIN:VTIMEZONE
TZID:Europe/Rome
BEGIN:DAYLIGHT
TZOFFSETFROM:+0100
TZOFFSETTO:+0200
TZNAME:CEST
DTSTART:20210328T010000
END:DAYLIGHT
BEGIN:STANDARD
TZOFFSETFROM:+0200
TZOFFSETTO:+0100
TZNAME:CET
DTSTART:20211031T010000
END:STANDARD
END:VTIMEZONE
BEGIN:VEVENT
DTSTART;TZID=Europe/Rome:20210108T140000
DTEND;TZID=Europe/Rome:20210108T153000
DTSTAMP:20260422T072005
CREATED:20210108T135402Z
LAST-MODIFIED:20210108T135402Z
UID:6589-1610114400-1610119800@www.marcellazappaterra.it
SUMMARY:Direzione Nazionale Partito Democratico
DESCRIPTION:
URL:https://www.marcellazappaterra.it/evento/direzione-nazionale-partito-democratico/
END:VEVENT
END:VCALENDAR