BEGIN:VCALENDAR
VERSION:2.0
PRODID:-//Marcella Zappaterra - ECPv5.1.6//NONSGML v1.0//EN
CALSCALE:GREGORIAN
METHOD:PUBLISH
X-WR-CALNAME:Marcella Zappaterra
X-ORIGINAL-URL:https://www.marcellazappaterra.it
X-WR-CALDESC:Eventi per Marcella Zappaterra
BEGIN:VTIMEZONE
TZID:Europe/Rome
BEGIN:DAYLIGHT
TZOFFSETFROM:+0100
TZOFFSETTO:+0200
TZNAME:CEST
DTSTART:20200329T010000
END:DAYLIGHT
BEGIN:STANDARD
TZOFFSETFROM:+0200
TZOFFSETTO:+0100
TZNAME:CET
DTSTART:20201025T010000
END:STANDARD
END:VTIMEZONE
BEGIN:VEVENT
DTSTART;TZID=Europe/Rome:20201203T103000
DTEND;TZID=Europe/Rome:20201203T160000
DTSTAMP:20260419T205139
CREATED:20201201T170811Z
LAST-MODIFIED:20201201T170811Z
UID:6546-1606991400-1607011200@www.marcellazappaterra.it
SUMMARY:ONE HEALTH. Covid-19 e azioni per ridurre le infezioni nosocomiali\, le antibiotico-resistenze e i costi associati
DESCRIPTION:ONE HEALTH. Covid-19 e azioni per ridurre le infezioni nosocomiali\, le antibiotico-resistenze e i costi associati
URL:https://www.marcellazappaterra.it/evento/one-health-covid-19-e-azioni-per-ridurre-le-infezioni-nosocomiali-le-antibiotico-resistenze-e-i-costi-associati/
END:VEVENT
END:VCALENDAR